BEGIN:VCALENDAR
VERSION:2.0
PRODID:-//CMSC - ECPv6.15.20//NONSGML v1.0//EN
CALSCALE:GREGORIAN
METHOD:PUBLISH
X-ORIGINAL-URL:https://cmsc.ab.ca
X-WR-CALDESC:Events for CMSC
REFRESH-INTERVAL;VALUE=DURATION:PT1H
X-Robots-Tag:noindex
X-PUBLISHED-TTL:PT1H
BEGIN:VTIMEZONE
TZID:America/Edmonton
BEGIN:DAYLIGHT
TZOFFSETFROM:-0700
TZOFFSETTO:-0600
TZNAME:MDT
DTSTART:20250309T090000
END:DAYLIGHT
BEGIN:STANDARD
TZOFFSETFROM:-0600
TZOFFSETTO:-0700
TZNAME:MST
DTSTART:20251102T080000
END:STANDARD
BEGIN:DAYLIGHT
TZOFFSETFROM:-0700
TZOFFSETTO:-0600
TZNAME:MDT
DTSTART:20260308T090000
END:DAYLIGHT
BEGIN:STANDARD
TZOFFSETFROM:-0600
TZOFFSETTO:-0700
TZNAME:MST
DTSTART:20261101T080000
END:STANDARD
BEGIN:DAYLIGHT
TZOFFSETFROM:-0700
TZOFFSETTO:-0600
TZNAME:MDT
DTSTART:20270314T090000
END:DAYLIGHT
BEGIN:STANDARD
TZOFFSETFROM:-0600
TZOFFSETTO:-0700
TZNAME:MST
DTSTART:20271107T080000
END:STANDARD
END:VTIMEZONE
BEGIN:VEVENT
DTSTART;TZID=America/Edmonton:20260201T090000
DTEND;TZID=America/Edmonton:20260201T103000
DTSTAMP:20260422T031826
CREATED:20260131T021745Z
LAST-MODIFIED:20260131T021745Z
UID:11196-1769936400-1769941800@cmsc.ab.ca
SUMMARY:9:00-10:30 VO2 Max 6 Lanes SC
DESCRIPTION:
URL:https://cmsc.ab.ca/event/900-1030-vo2-max-6-lanes-sc-3/
CATEGORIES:early bird,evening,flex,mid morning,Practice
END:VEVENT
BEGIN:VEVENT
DTSTART;TZID=America/Edmonton:20260202T091500
DTEND;TZID=America/Edmonton:20260202T101500
DTSTAMP:20260422T031826
CREATED:20260131T021839Z
LAST-MODIFIED:20260131T021839Z
UID:11198-1770023700-1770027300@cmsc.ab.ca
SUMMARY:9:15-10:15 I.M. 8 Lanes SC
DESCRIPTION:
URL:https://cmsc.ab.ca/event/915-1015-i-m-8-lanes-sc-16/
CATEGORIES:flex,mid morning,Practice
END:VEVENT
BEGIN:VEVENT
DTSTART;TZID=America/Edmonton:20260204T091500
DTEND;TZID=America/Edmonton:20260204T101500
DTSTAMP:20260422T031826
CREATED:20260131T022050Z
LAST-MODIFIED:20260131T022050Z
UID:11201-1770196500-1770200100@cmsc.ab.ca
SUMMARY:9:15-10:15 Speed 8 Lanes SC
DESCRIPTION:
URL:https://cmsc.ab.ca/event/915-1015-speed-8-lanes-sc-37/
CATEGORIES:flex,mid morning,Practice
END:VEVENT
BEGIN:VEVENT
DTSTART;TZID=America/Edmonton:20260206T091500
DTEND;TZID=America/Edmonton:20260206T101500
DTSTAMP:20260422T031826
CREATED:20260131T022107Z
LAST-MODIFIED:20260131T022107Z
UID:11204-1770369300-1770372900@cmsc.ab.ca
SUMMARY:9:15-10:15 Pace 8 Lanes SC
DESCRIPTION:
URL:https://cmsc.ab.ca/event/915-1015-pace-8-lanes-sc-31/
CATEGORIES:flex,mid morning,Practice
END:VEVENT
BEGIN:VEVENT
DTSTART;TZID=America/Edmonton:20260207T173000
DTEND;TZID=America/Edmonton:20260207T190000
DTSTAMP:20260422T031826
CREATED:20260131T022119Z
LAST-MODIFIED:20260131T022119Z
UID:11205-1770485400-1770490800@cmsc.ab.ca
SUMMARY:17:30-19:00 Speed 8 Lanes SC
DESCRIPTION:
URL:https://cmsc.ab.ca/event/1730-1900-speed-8-lanes-sc-3/
CATEGORIES:early bird,evening,flex,mid morning,Practice
END:VEVENT
BEGIN:VEVENT
DTSTART;TZID=America/Edmonton:20260208T090000
DTEND;TZID=America/Edmonton:20260208T103000
DTSTAMP:20260422T031826
CREATED:20260131T022120Z
LAST-MODIFIED:20260131T022120Z
UID:11206-1770541200-1770546600@cmsc.ab.ca
SUMMARY:9:00-10:30 Kick 6 Lanes SC
DESCRIPTION:
URL:https://cmsc.ab.ca/event/900-1030-kick-6-lanes-sc-2/
CATEGORIES:early bird,evening,flex,mid morning,Practice
END:VEVENT
BEGIN:VEVENT
DTSTART;TZID=America/Edmonton:20260209T091500
DTEND;TZID=America/Edmonton:20260209T101500
DTSTAMP:20260422T031826
CREATED:20260131T022121Z
LAST-MODIFIED:20260131T022121Z
UID:11208-1770628500-1770632100@cmsc.ab.ca
SUMMARY:9:15-10:15 Efficiency 8 Lanes SC
DESCRIPTION:
URL:https://cmsc.ab.ca/event/915-1015-efficiency-8-lanes-sc-30/
CATEGORIES:flex,mid morning,Practice
END:VEVENT
BEGIN:VEVENT
DTSTART;TZID=America/Edmonton:20260211T091500
DTEND;TZID=America/Edmonton:20260211T101500
DTSTAMP:20260422T031826
CREATED:20260131T022123Z
LAST-MODIFIED:20260131T022123Z
UID:11211-1770801300-1770804900@cmsc.ab.ca
SUMMARY:9:15-10:15 Technique 8 Lanes SC
DESCRIPTION:
URL:https://cmsc.ab.ca/event/915-1015-technique-8-lanes-sc-2/
CATEGORIES:flex,mid morning,Practice
END:VEVENT
BEGIN:VEVENT
DTSTART;TZID=America/Edmonton:20260213T091500
DTEND;TZID=America/Edmonton:20260213T101500
DTSTAMP:20260422T031826
CREATED:20260131T022140Z
LAST-MODIFIED:20260131T022140Z
UID:11214-1770974100-1770977700@cmsc.ab.ca
SUMMARY:9:15-10:15 Threshold 8 Lanes SC
DESCRIPTION:
URL:https://cmsc.ab.ca/event/915-1015-threshold-8-lanes-sc-21/
CATEGORIES:flex,mid morning,Practice
END:VEVENT
BEGIN:VEVENT
DTSTART;TZID=America/Edmonton:20260214T140000
DTEND;TZID=America/Edmonton:20260214T153000
DTSTAMP:20260422T031826
CREATED:20260131T022148Z
LAST-MODIFIED:20260131T022148Z
UID:11215-1771077600-1771083000@cmsc.ab.ca
SUMMARY:14:00-15:30 Dives & 25s 8 Lanes SC
DESCRIPTION:
URL:https://cmsc.ab.ca/event/1400-1530-dives-25s-8-lanes-sc/
CATEGORIES:Changes,early bird,evening,flex,mid morning,Practice
END:VEVENT
BEGIN:VEVENT
DTSTART;TZID=America/Edmonton:20260215T090000
DTEND;TZID=America/Edmonton:20260215T103000
DTSTAMP:20260422T031826
CREATED:20260131T022149Z
LAST-MODIFIED:20260131T022149Z
UID:11216-1771146000-1771151400@cmsc.ab.ca
SUMMARY:9:00-10:30 Efficiency 6 Lanes SC
DESCRIPTION:
URL:https://cmsc.ab.ca/event/900-1030-efficiency-6-lanes-sc/
CATEGORIES:early bird,evening,flex,mid morning,Practice
END:VEVENT
BEGIN:VEVENT
DTSTART;TZID=America/Edmonton:20260216T084500
DTEND;TZID=America/Edmonton:20260216T101500
DTSTAMP:20260422T031826
CREATED:20260131T022150Z
LAST-MODIFIED:20260131T022150Z
UID:11217-1771231500-1771236900@cmsc.ab.ca
SUMMARY:8:45-10:15 Speed 8 Lanes SC
DESCRIPTION:
URL:https://cmsc.ab.ca/event/845-1015-speed-8-lanes-sc/
CATEGORIES:Changes,early bird,evening,flex,mid morning,Practice
END:VEVENT
BEGIN:VEVENT
DTSTART;TZID=America/Edmonton:20260218T091500
DTEND;TZID=America/Edmonton:20260218T101500
DTSTAMP:20260422T031826
CREATED:20260131T022201Z
LAST-MODIFIED:20260131T022201Z
UID:11220-1771406100-1771409700@cmsc.ab.ca
SUMMARY:9:15-10:15 Distance 8 Lanes SC
DESCRIPTION:
URL:https://cmsc.ab.ca/event/915-1015-distance-8-lanes-sc-31/
CATEGORIES:flex,mid morning,Practice
END:VEVENT
BEGIN:VEVENT
DTSTART;TZID=America/Edmonton:20260220T091500
DTEND;TZID=America/Edmonton:20260220T101500
DTSTAMP:20260422T031826
CREATED:20260131T022224Z
LAST-MODIFIED:20260131T022224Z
UID:11223-1771578900-1771582500@cmsc.ab.ca
SUMMARY:09:15-10:15 Pace 8 Lanes SC
DESCRIPTION:
URL:https://cmsc.ab.ca/event/0915-1015-pace-8-lanes-sc/
CATEGORIES:flex,mid morning,Practice
END:VEVENT
BEGIN:VEVENT
DTSTART;TZID=America/Edmonton:20260221T173000
DTEND;TZID=America/Edmonton:20260221T190000
DTSTAMP:20260422T031826
CREATED:20260131T022224Z
LAST-MODIFIED:20260131T022224Z
UID:11224-1771695000-1771700400@cmsc.ab.ca
SUMMARY:17:30-19:00 Fly Tech 8 Lanes SC
DESCRIPTION:
URL:https://cmsc.ab.ca/event/1730-1900-fly-tech-8-lanes-sc-2/
CATEGORIES:early bird,evening,flex,mid morning,Practice
END:VEVENT
BEGIN:VEVENT
DTSTART;TZID=America/Edmonton:20260222T090000
DTEND;TZID=America/Edmonton:20260222T103000
DTSTAMP:20260422T031826
CREATED:20260131T022229Z
LAST-MODIFIED:20260131T022229Z
UID:11225-1771750800-1771756200@cmsc.ab.ca
SUMMARY:9:00-10:30 Pull 6 Lanes SC
DESCRIPTION:
URL:https://cmsc.ab.ca/event/900-1030-pull-6-lanes-sc-3/
CATEGORIES:early bird,evening,flex,mid morning,Practice
END:VEVENT
BEGIN:VEVENT
DTSTART;TZID=America/Edmonton:20260223T091500
DTEND;TZID=America/Edmonton:20260223T101500
DTSTAMP:20260422T031826
CREATED:20260131T022243Z
LAST-MODIFIED:20260131T022243Z
UID:11227-1771838100-1771841700@cmsc.ab.ca
SUMMARY:9:15-10:15 Technique 8 Lanes SC
DESCRIPTION:
URL:https://cmsc.ab.ca/event/915-1015-technique-8-lanes-sc-3/
CATEGORIES:flex,mid morning,Practice
END:VEVENT
BEGIN:VEVENT
DTSTART;TZID=America/Edmonton:20260225T091500
DTEND;TZID=America/Edmonton:20260225T101500
DTSTAMP:20260422T031826
CREATED:20260131T022302Z
LAST-MODIFIED:20260131T022302Z
UID:11230-1772010900-1772014500@cmsc.ab.ca
SUMMARY:9:15-10:15 Speed 8 Lanes SC
DESCRIPTION:
URL:https://cmsc.ab.ca/event/915-1015-speed-8-lanes-sc-38/
CATEGORIES:flex,mid morning,Practice
END:VEVENT
BEGIN:VEVENT
DTSTART;TZID=America/Edmonton:20260227T091500
DTEND;TZID=America/Edmonton:20260227T101500
DTSTAMP:20260422T031826
CREATED:20260131T022457Z
LAST-MODIFIED:20260131T022457Z
UID:11233-1772183700-1772187300@cmsc.ab.ca
SUMMARY:09:15-10:15 Kick 8 Lanes SC
DESCRIPTION:
URL:https://cmsc.ab.ca/event/0915-1015-kick-8-lanes-sc-2/
CATEGORIES:flex,mid morning,Practice
END:VEVENT
BEGIN:VEVENT
DTSTART;TZID=America/Edmonton:20260228T173000
DTEND;TZID=America/Edmonton:20260228T190000
DTSTAMP:20260422T031826
CREATED:20260131T022504Z
LAST-MODIFIED:20260131T022504Z
UID:11234-1772299800-1772305200@cmsc.ab.ca
SUMMARY:17:30-19:00 Breast Tech 8 Lanes SC
DESCRIPTION:
URL:https://cmsc.ab.ca/event/1730-1900-breast-tech-8-lanes-sc/
CATEGORIES:early bird,evening,flex,mid morning,Practice
END:VEVENT
END:VCALENDAR