BEGIN:VCALENDAR
VERSION:2.0
PRODID:-//CMSC - ECPv6.15.20//NONSGML v1.0//EN
CALSCALE:GREGORIAN
METHOD:PUBLISH
X-ORIGINAL-URL:https://cmsc.ab.ca
X-WR-CALDESC:Events for CMSC
REFRESH-INTERVAL;VALUE=DURATION:PT1H
X-Robots-Tag:noindex
X-PUBLISHED-TTL:PT1H
BEGIN:VTIMEZONE
TZID:America/Edmonton
BEGIN:DAYLIGHT
TZOFFSETFROM:-0700
TZOFFSETTO:-0600
TZNAME:MDT
DTSTART:20250309T090000
END:DAYLIGHT
BEGIN:STANDARD
TZOFFSETFROM:-0600
TZOFFSETTO:-0700
TZNAME:MST
DTSTART:20251102T080000
END:STANDARD
BEGIN:DAYLIGHT
TZOFFSETFROM:-0700
TZOFFSETTO:-0600
TZNAME:MDT
DTSTART:20260308T090000
END:DAYLIGHT
BEGIN:STANDARD
TZOFFSETFROM:-0600
TZOFFSETTO:-0700
TZNAME:MST
DTSTART:20261101T080000
END:STANDARD
BEGIN:DAYLIGHT
TZOFFSETFROM:-0700
TZOFFSETTO:-0600
TZNAME:MDT
DTSTART:20270314T090000
END:DAYLIGHT
BEGIN:STANDARD
TZOFFSETFROM:-0600
TZOFFSETTO:-0700
TZNAME:MST
DTSTART:20271107T080000
END:STANDARD
END:VTIMEZONE
BEGIN:VEVENT
DTSTART;TZID=America/Edmonton:20260422T091500
DTEND;TZID=America/Edmonton:20260422T101500
DTSTAMP:20260422T045219
CREATED:20260330T234219Z
LAST-MODIFIED:20260330T234219Z
UID:11387-1776849300-1776852900@cmsc.ab.ca
SUMMARY:9:15-10:15 Speed 8 Lanes SC
DESCRIPTION:
URL:https://cmsc.ab.ca/event/915-1015-speed-8-lanes-sc-43/
CATEGORIES:flex,mid morning,Practice
END:VEVENT
BEGIN:VEVENT
DTSTART;TZID=America/Edmonton:20260424T091500
DTEND;TZID=America/Edmonton:20260424T101500
DTSTAMP:20260422T045219
CREATED:20260330T234418Z
LAST-MODIFIED:20260330T234418Z
UID:11390-1777022100-1777025700@cmsc.ab.ca
SUMMARY:09:15-10:15 Tech 8 Lanes SC
DESCRIPTION:
URL:https://cmsc.ab.ca/event/0915-1015-tech-8-lanes-sc/
CATEGORIES:flex,mid morning,Practice
END:VEVENT
BEGIN:VEVENT
DTSTART;TZID=America/Edmonton:20260425T103000
DTEND;TZID=America/Edmonton:20260425T120000
DTSTAMP:20260422T045219
CREATED:20260330T234419Z
LAST-MODIFIED:20260330T234419Z
UID:11391-1777113000-1777118400@cmsc.ab.ca
SUMMARY:10:30-12:00 Distance 4 Lanes LC
DESCRIPTION:
URL:https://cmsc.ab.ca/event/1030-1200-distance-4-lanes-lc-7/
CATEGORIES:early bird,evening,flex,mid morning,Practice
END:VEVENT
BEGIN:VEVENT
DTSTART;TZID=America/Edmonton:20260426T090000
DTEND;TZID=America/Edmonton:20260426T103000
DTSTAMP:20260422T045219
CREATED:20260330T234419Z
LAST-MODIFIED:20260330T234419Z
UID:11392-1777194000-1777199400@cmsc.ab.ca
SUMMARY:9:00-10:30 Speed 8 Lanes SC
DESCRIPTION:
URL:https://cmsc.ab.ca/event/900-1030-speed-8-lanes-sc-11/
CATEGORIES:early bird,evening,flex,mid morning,Practice
END:VEVENT
BEGIN:VEVENT
DTSTART;TZID=America/Edmonton:20260427T091500
DTEND;TZID=America/Edmonton:20260427T101500
DTSTAMP:20260422T045219
CREATED:20260330T234619Z
LAST-MODIFIED:20260330T234619Z
UID:11394-1777281300-1777284900@cmsc.ab.ca
SUMMARY:9:15-10:15 Kick 4 Lanes LC
DESCRIPTION:
URL:https://cmsc.ab.ca/event/915-1015-kick-4-lanes-lc-8/
CATEGORIES:flex,mid morning,Practice
END:VEVENT
BEGIN:VEVENT
DTSTART;TZID=America/Edmonton:20260429T091500
DTEND;TZID=America/Edmonton:20260429T101500
DTSTAMP:20260422T045219
CREATED:20260330T234629Z
LAST-MODIFIED:20260330T234629Z
UID:11397-1777454100-1777457700@cmsc.ab.ca
SUMMARY:9:15-10:15 Threshold 8 Lanes SC
DESCRIPTION:
URL:https://cmsc.ab.ca/event/915-1015-threshold-8-lanes-sc-23/
CATEGORIES:flex,mid morning,Practice
END:VEVENT
END:VCALENDAR